BEGIN:VCALENDAR
VERSION:2.0
PRODID:-//ChamberMaster//Event Calendar 2.0//EN
METHOD:PUBLISH
X-PUBLISHED-TTL:P3D
REFRESH-INTERVAL:P3D
CALSCALE:GREGORIAN
BEGIN:VEVENT
DTSTART:20210727T180000Z
DTEND:20210727T190000Z
X-MICROSOFT-CDO-ALLDAYEVENT:FALSE
SUMMARY:Cybersecurity Within Nonprofits
DESCRIPTION:Course Description: Have you created a culture of a security within your organization? It's not a matter of if an incident will occur\, it's a matter of when. Planning for a cybersecurity incident now can save you time and money in the future. Not getting cybersecurity right could mean going out of business should a breach occur. Our team is here to help you create a culture of security\, learn more about current trends and understand next steps. Learning Objectives: -Review cybersecurity trends -Identify the risks of error for your organization -Outline next steps to mitigate risk
X-ALT-DESC;FMTTYPE=text/html:Course Description: Have you created a culture of a security within your organization? It&#39\;s not a matter of if an incident will occur\, it&#39\;s a matter of when. Planning for a cybersecurity incident now can save you time and money in the future. Not getting cybersecurity right could mean going out of business should a breach occur. Our team is here to help you create a culture of security\, learn more about current trends and understand next steps. Learning Objectives: -Review cybersecurity trends -Identify the risks of error for your organization -Outline next steps to mitigate risk
LOCATION:Via Zoom Webinar
UID:e.2655.1368
SEQUENCE:3
DTSTAMP:20260425T153122Z
URL:http://wdmchamberia.chambermaster.com/events/details/cybersecurity-within-nonprofits-1368
END:VEVENT

END:VCALENDAR
